BEGIN:VCALENDAR
VERSION:2.0
PRODID:-//Circuit Calafat - ECPv6.15.20//NONSGML v1.0//EN
CALSCALE:GREGORIAN
METHOD:PUBLISH
X-ORIGINAL-URL:https://circuitcalafat.com
X-WR-CALDESC:Eventos para Circuit Calafat
REFRESH-INTERVAL;VALUE=DURATION:PT1H
X-Robots-Tag:noindex
X-PUBLISHED-TTL:PT1H
BEGIN:VTIMEZONE
TZID:Europe/Madrid
BEGIN:DAYLIGHT
TZOFFSETFROM:+0100
TZOFFSETTO:+0200
TZNAME:CEST
DTSTART:20250330T010000
END:DAYLIGHT
BEGIN:STANDARD
TZOFFSETFROM:+0200
TZOFFSETTO:+0100
TZNAME:CET
DTSTART:20251026T010000
END:STANDARD
BEGIN:DAYLIGHT
TZOFFSETFROM:+0100
TZOFFSETTO:+0200
TZNAME:CEST
DTSTART:20260329T010000
END:DAYLIGHT
BEGIN:STANDARD
TZOFFSETFROM:+0200
TZOFFSETTO:+0100
TZNAME:CET
DTSTART:20261025T010000
END:STANDARD
BEGIN:DAYLIGHT
TZOFFSETFROM:+0100
TZOFFSETTO:+0200
TZNAME:CEST
DTSTART:20270328T010000
END:DAYLIGHT
BEGIN:STANDARD
TZOFFSETFROM:+0200
TZOFFSETTO:+0100
TZNAME:CET
DTSTART:20271031T010000
END:STANDARD
END:VTIMEZONE
BEGIN:VEVENT
DTSTART;VALUE=DATE:20260601
DTEND;VALUE=DATE:20260606
DTSTAMP:20260419T144755
CREATED:20260416T091737Z
LAST-MODIFIED:20260416T091737Z
UID:10000529-1780272000-1780703999@circuitcalafat.com
SUMMARY:PISTA CEDIDA
DESCRIPTION:
URL:https://circuitcalafat.com/evento/pista-cedida-24/
LOCATION:Circuit Calafat\, Spain
CATEGORIES:Pista cedida
END:VEVENT
BEGIN:VEVENT
DTSTART;VALUE=DATE:20260606
DTEND;VALUE=DATE:20260607
DTSTAMP:20260419T144755
CREATED:20260416T091845Z
LAST-MODIFIED:20260416T091845Z
UID:10000530-1780704000-1780790399@circuitcalafat.com
SUMMARY:MOTORBIKE RACING
DESCRIPTION:
URL:https://circuitcalafat.com/evento/motorbike-racing-2/
LOCATION:Circuit Calafat\, Spain
CATEGORIES:Rodadas motos
ORGANIZER;CN="Motorbike Racing":MAILTO:info@motorbikeracing.es
END:VEVENT
BEGIN:VEVENT
DTSTART;VALUE=DATE:20260607
DTEND;VALUE=DATE:20260608
DTSTAMP:20260419T144755
CREATED:20260416T092212Z
LAST-MODIFIED:20260416T092212Z
UID:10000531-1780790400-1780876799@circuitcalafat.com
SUMMARY:MOTO8 RACING
DESCRIPTION:
URL:https://circuitcalafat.com/evento/moto8-racing-2/
LOCATION:Circuit Calafat\, Spain
CATEGORIES:Rodadas motos
ORGANIZER;CN="MOTO8 RACING":MAILTO:info@moto8racing.com
END:VEVENT
BEGIN:VEVENT
DTSTART;VALUE=DATE:20260608
DTEND;VALUE=DATE:20260612
DTSTAMP:20260419T144755
CREATED:20260416T093945Z
LAST-MODIFIED:20260416T093945Z
UID:10000532-1780876800-1781222399@circuitcalafat.com
SUMMARY:PISTA CEDIDA
DESCRIPTION:
URL:https://circuitcalafat.com/evento/pista-cedida-30/
LOCATION:Circuit Calafat\, Spain
CATEGORIES:Pista cedida
END:VEVENT
BEGIN:VEVENT
DTSTART;VALUE=DATE:20260612
DTEND;VALUE=DATE:20260613
DTSTAMP:20260419T144755
CREATED:20260416T094042Z
LAST-MODIFIED:20260416T094042Z
UID:10000534-1781222400-1781308799@circuitcalafat.com
SUMMARY:PISTA CEDIDA
DESCRIPTION:
URL:https://circuitcalafat.com/evento/pista-cedida-57/
LOCATION:Circuit Calafat\, Spain
CATEGORIES:Pista cedida
END:VEVENT
BEGIN:VEVENT
DTSTART;VALUE=DATE:20260615
DTEND;VALUE=DATE:20260619
DTSTAMP:20260419T144755
CREATED:20260416T094017Z
LAST-MODIFIED:20260416T094017Z
UID:10000533-1781481600-1781827199@circuitcalafat.com
SUMMARY:PISTA CEDIDA
DESCRIPTION:
URL:https://circuitcalafat.com/evento/pista-cedida-31/
LOCATION:Circuit Calafat\, Spain
CATEGORIES:Pista cedida
END:VEVENT
BEGIN:VEVENT
DTSTART;VALUE=DATE:20260620
DTEND;VALUE=DATE:20260621
DTSTAMP:20260419T144755
CREATED:20260416T102504Z
LAST-MODIFIED:20260416T102504Z
UID:10000536-1781913600-1781999999@circuitcalafat.com
SUMMARY:STOCK EXTREME TRACK
DESCRIPTION:
URL:https://circuitcalafat.com/evento/stock-extreme-track/
LOCATION:Circuit Calafat\, Spain
CATEGORIES:Rodadas motos
ORGANIZER;CN="STOCKEXTREMETRACK":MAILTO:info@stockextremetrack.com
END:VEVENT
BEGIN:VEVENT
DTSTART;VALUE=DATE:20260621
DTEND;VALUE=DATE:20260622
DTSTAMP:20260419T144755
CREATED:20260416T102606Z
LAST-MODIFIED:20260416T102606Z
UID:10000537-1782000000-1782086399@circuitcalafat.com
SUMMARY:UNITED TRACKDAYS
DESCRIPTION:
URL:https://circuitcalafat.com/evento/united-trackdays-3/
LOCATION:Circuit Calafat\, Spain
CATEGORIES:Rodadas motos
END:VEVENT
BEGIN:VEVENT
DTSTART;VALUE=DATE:20260622
DTEND;VALUE=DATE:20260623
DTSTAMP:20260419T144755
CREATED:20260416T094135Z
LAST-MODIFIED:20260416T094135Z
UID:10000535-1782086400-1782172799@circuitcalafat.com
SUMMARY:PISTA CEDIDA
DESCRIPTION:
URL:https://circuitcalafat.com/evento/pista-cedida-58/
LOCATION:Circuit Calafat\, Spain
CATEGORIES:Pista cedida
END:VEVENT
BEGIN:VEVENT
DTSTART;VALUE=DATE:20260626
DTEND;VALUE=DATE:20260628
DTSTAMP:20260419T144755
CREATED:20260416T102727Z
LAST-MODIFIED:20260416T102727Z
UID:10000538-1782432000-1782604799@circuitcalafat.com
SUMMARY:AMAZING DRIVES
DESCRIPTION:
URL:https://circuitcalafat.com/evento/amazing-drives-2/
LOCATION:Circuit Calafat\, Spain
CATEGORIES:Rodadas coches
ORGANIZER;CN="AMAZING DRIVES":MAILTO:info@amazingdrives.net
END:VEVENT
END:VCALENDAR