BEGIN:VCALENDAR
VERSION:2.0
PRODID:-//Circuit Calafat - ECPv6.15.20//NONSGML v1.0//EN
CALSCALE:GREGORIAN
METHOD:PUBLISH
X-WR-CALNAME:Circuit Calafat
X-ORIGINAL-URL:https://circuitcalafat.com
X-WR-CALDESC:Eventos para Circuit Calafat
REFRESH-INTERVAL;VALUE=DURATION:PT1H
X-Robots-Tag:noindex
X-PUBLISHED-TTL:PT1H
BEGIN:VTIMEZONE
TZID:Europe/Madrid
BEGIN:DAYLIGHT
TZOFFSETFROM:+0100
TZOFFSETTO:+0200
TZNAME:CEST
DTSTART:20250330T010000
END:DAYLIGHT
BEGIN:STANDARD
TZOFFSETFROM:+0200
TZOFFSETTO:+0100
TZNAME:CET
DTSTART:20251026T010000
END:STANDARD
BEGIN:DAYLIGHT
TZOFFSETFROM:+0100
TZOFFSETTO:+0200
TZNAME:CEST
DTSTART:20260329T010000
END:DAYLIGHT
BEGIN:STANDARD
TZOFFSETFROM:+0200
TZOFFSETTO:+0100
TZNAME:CET
DTSTART:20261025T010000
END:STANDARD
BEGIN:DAYLIGHT
TZOFFSETFROM:+0100
TZOFFSETTO:+0200
TZNAME:CEST
DTSTART:20270328T010000
END:DAYLIGHT
BEGIN:STANDARD
TZOFFSETFROM:+0200
TZOFFSETTO:+0100
TZNAME:CET
DTSTART:20271031T010000
END:STANDARD
END:VTIMEZONE
BEGIN:VEVENT
DTSTART;TZID=Europe/Madrid:20260724T080000
DTEND;TZID=Europe/Madrid:20260726T170000
DTSTAMP:20260419T161132
CREATED:20260416T114727Z
LAST-MODIFIED:20260416T114727Z
UID:19791-1784880000-1785085200@circuitcalafat.com
SUMMARY:PISTA CEDIDA
DESCRIPTION:
URL:https://circuitcalafat.com/evento/pista-cedida-63/
LOCATION:Circuit Calafat\, Spain
CATEGORIES:Pista cedida
END:VEVENT
END:VCALENDAR